BEGIN:VCALENDAR
VERSION:2.0
PRODID:-//Mitchellville-Bowie Section of National Council of Negro Women, Inc. - ECPv6.15.20//NONSGML v1.0//EN
CALSCALE:GREGORIAN
METHOD:PUBLISH
X-ORIGINAL-URL:https://ncnwmb.org
X-WR-CALDESC:Events for Mitchellville-Bowie Section of National Council of Negro Women, Inc.
REFRESH-INTERVAL;VALUE=DURATION:PT1H
X-Robots-Tag:noindex
X-PUBLISHED-TTL:PT1H
BEGIN:VTIMEZONE
TZID:America/New_York
BEGIN:DAYLIGHT
TZOFFSETFROM:-0500
TZOFFSETTO:-0400
TZNAME:EDT
DTSTART:20240310T070000
END:DAYLIGHT
BEGIN:STANDARD
TZOFFSETFROM:-0400
TZOFFSETTO:-0500
TZNAME:EST
DTSTART:20241103T060000
END:STANDARD
BEGIN:DAYLIGHT
TZOFFSETFROM:-0500
TZOFFSETTO:-0400
TZNAME:EDT
DTSTART:20250309T070000
END:DAYLIGHT
BEGIN:STANDARD
TZOFFSETFROM:-0400
TZOFFSETTO:-0500
TZNAME:EST
DTSTART:20251102T060000
END:STANDARD
BEGIN:DAYLIGHT
TZOFFSETFROM:-0500
TZOFFSETTO:-0400
TZNAME:EDT
DTSTART:20260308T070000
END:DAYLIGHT
BEGIN:STANDARD
TZOFFSETFROM:-0400
TZOFFSETTO:-0500
TZNAME:EST
DTSTART:20261101T060000
END:STANDARD
END:VTIMEZONE
BEGIN:VEVENT
DTSTART;TZID=America/New_York:20250419T110000
DTEND;TZID=America/New_York:20250419T150000
DTSTAMP:20260421T110536
CREATED:20250212T231148Z
LAST-MODIFIED:20250212T232335Z
UID:10000063-1745060400-1745074800@ncnwmb.org
SUMMARY:Pre-Easter Gospel Brunch
DESCRIPTION:Join us for our Pre-Easter Gospel Brunch. Come and enjoy good food and fellowship along with live entertainment featuring Rena Geathers and the Curtis Harris Ensemble.
URL:https://ncnwmb.org/event-2/pre-easter-gospel-brunch/
LOCATION:Holiday Inn College Park\, 10000 Baltimore Avenue\, College Park\, Maryland\, 20740
ATTACH;FMTTYPE=image/png:https://ncnwmb.org/wp-content/uploads/2025/02/Pre-Easter-Gospel-Brunch-3.png
END:VEVENT
END:VCALENDAR