BEGIN:VCALENDAR
VERSION:2.0
PRODID:-//Mitchellville-Bowie Section of National Council of Negro Women, Inc. - ECPv6.15.20//NONSGML v1.0//EN
CALSCALE:GREGORIAN
METHOD:PUBLISH
X-WR-CALNAME:Mitchellville-Bowie Section of National Council of Negro Women, Inc.
X-ORIGINAL-URL:https://ncnwmb.org
X-WR-CALDESC:Events for Mitchellville-Bowie Section of National Council of Negro Women, Inc.
REFRESH-INTERVAL;VALUE=DURATION:PT1H
X-Robots-Tag:noindex
X-PUBLISHED-TTL:PT1H
BEGIN:VTIMEZONE
TZID:America/New_York
BEGIN:DAYLIGHT
TZOFFSETFROM:-0500
TZOFFSETTO:-0400
TZNAME:EDT
DTSTART:20250309T070000
END:DAYLIGHT
BEGIN:STANDARD
TZOFFSETFROM:-0400
TZOFFSETTO:-0500
TZNAME:EST
DTSTART:20251102T060000
END:STANDARD
BEGIN:DAYLIGHT
TZOFFSETFROM:-0500
TZOFFSETTO:-0400
TZNAME:EDT
DTSTART:20260308T070000
END:DAYLIGHT
BEGIN:STANDARD
TZOFFSETFROM:-0400
TZOFFSETTO:-0500
TZNAME:EST
DTSTART:20261101T060000
END:STANDARD
BEGIN:DAYLIGHT
TZOFFSETFROM:-0500
TZOFFSETTO:-0400
TZNAME:EDT
DTSTART:20270314T070000
END:DAYLIGHT
BEGIN:STANDARD
TZOFFSETFROM:-0400
TZOFFSETTO:-0500
TZNAME:EST
DTSTART:20271107T060000
END:STANDARD
END:VTIMEZONE
BEGIN:VEVENT
DTSTART;TZID=America/New_York:20260622T190000
DTEND;TZID=America/New_York:20260622T200000
DTSTAMP:20260421T122326
CREATED:20250920T003655Z
LAST-MODIFIED:20251015T184352Z
UID:10000021-1782154800-1782158400@ncnwmb.org
SUMMARY:MB-NCNW Monthly Meeting
DESCRIPTION:(RECURRING EVENT)\nEvery 4th Monday at 7:00PM (Eastern time) \nLOCATION:\nRSVP by emailing communications@ncnwmb.org
URL:https://ncnwmb.org/event-2/join-us-monthly-meeting-3/2026-06-22/
ATTACH;FMTTYPE=image/jpeg:https://ncnwmb.org/wp-content/uploads/2025/09/NCNW-MB-Join-Us-Flyer-1-scaled.jpg
END:VEVENT
END:VCALENDAR