BEGIN:VCALENDAR
VERSION:2.0
PRODID:-//Mitchellville-Bowie Section of National Council of Negro Women, Inc. - ECPv6.15.20//NONSGML v1.0//EN
CALSCALE:GREGORIAN
METHOD:PUBLISH
X-WR-CALNAME:Mitchellville-Bowie Section of National Council of Negro Women, Inc.
X-ORIGINAL-URL:https://ncnwmb.org
X-WR-CALDESC:Events for Mitchellville-Bowie Section of National Council of Negro Women, Inc.
REFRESH-INTERVAL;VALUE=DURATION:PT1H
X-Robots-Tag:noindex
X-PUBLISHED-TTL:PT1H
BEGIN:VTIMEZONE
TZID:America/New_York
BEGIN:DAYLIGHT
TZOFFSETFROM:-0500
TZOFFSETTO:-0400
TZNAME:EDT
DTSTART:20230312T070000
END:DAYLIGHT
BEGIN:STANDARD
TZOFFSETFROM:-0400
TZOFFSETTO:-0500
TZNAME:EST
DTSTART:20231105T060000
END:STANDARD
BEGIN:DAYLIGHT
TZOFFSETFROM:-0500
TZOFFSETTO:-0400
TZNAME:EDT
DTSTART:20240310T070000
END:DAYLIGHT
BEGIN:STANDARD
TZOFFSETFROM:-0400
TZOFFSETTO:-0500
TZNAME:EST
DTSTART:20241103T060000
END:STANDARD
BEGIN:DAYLIGHT
TZOFFSETFROM:-0500
TZOFFSETTO:-0400
TZNAME:EDT
DTSTART:20250309T070000
END:DAYLIGHT
BEGIN:STANDARD
TZOFFSETFROM:-0400
TZOFFSETTO:-0500
TZNAME:EST
DTSTART:20251102T060000
END:STANDARD
BEGIN:DAYLIGHT
TZOFFSETFROM:-0500
TZOFFSETTO:-0400
TZNAME:EDT
DTSTART:20260308T070000
END:DAYLIGHT
BEGIN:STANDARD
TZOFFSETFROM:-0400
TZOFFSETTO:-0500
TZNAME:EST
DTSTART:20261101T060000
END:STANDARD
END:VTIMEZONE
BEGIN:VEVENT
DTSTART;TZID=America/New_York:20250324T190000
DTEND;TZID=America/New_York:20250324T200000
DTSTAMP:20260421T215500
CREATED:20241126T212807Z
LAST-MODIFIED:20250212T234227Z
UID:10000006-1742842800-1742846400@ncnwmb.org
SUMMARY:Join Us! Monthly Meeting
DESCRIPTION:(RECURRING EVENT)\nEvery 4th Monday at 7:00PM (Eastern time) \nLOCATION:\n​Bowie Senior Center\n14900 Health Center Drive\n​Bowie\, MD 20716
URL:https://ncnwmb.org/event-2/join-us-monthly-meeting/2025-03-24/
LOCATION:​Bowie Senior Center\, 14900 Health Center Drive\, Bowie\, MD\, 20716
ATTACH;FMTTYPE=image/png:https://ncnwmb.org/wp-content/uploads/2024/11/IMG_1779.png
END:VEVENT
BEGIN:VEVENT
DTSTART;TZID=America/New_York:20250224T190000
DTEND;TZID=America/New_York:20250224T200000
DTSTAMP:20260421T215500
CREATED:20241126T212807Z
LAST-MODIFIED:20250212T234227Z
UID:10000005-1740423600-1740427200@ncnwmb.org
SUMMARY:Join Us! Monthly Meeting
DESCRIPTION:(RECURRING EVENT)\nEvery 4th Monday at 7:00PM (Eastern time) \nLOCATION:\n​Bowie Senior Center\n14900 Health Center Drive\n​Bowie\, MD 20716
URL:https://ncnwmb.org/event-2/join-us-monthly-meeting/2025-02-24/
LOCATION:​Bowie Senior Center\, 14900 Health Center Drive\, Bowie\, MD\, 20716
ATTACH;FMTTYPE=image/png:https://ncnwmb.org/wp-content/uploads/2024/11/IMG_1779.png
END:VEVENT
BEGIN:VEVENT
DTSTART;TZID=America/New_York:20250127T190000
DTEND;TZID=America/New_York:20250127T200000
DTSTAMP:20260421T215500
CREATED:20241126T212807Z
LAST-MODIFIED:20250212T234227Z
UID:10000004-1738004400-1738008000@ncnwmb.org
SUMMARY:Join Us! Monthly Meeting
DESCRIPTION:(RECURRING EVENT)\nEvery 4th Monday at 7:00PM (Eastern time) \nLOCATION:\n​Bowie Senior Center\n14900 Health Center Drive\n​Bowie\, MD 20716
URL:https://ncnwmb.org/event-2/join-us-monthly-meeting/2025-01-27/
LOCATION:​Bowie Senior Center\, 14900 Health Center Drive\, Bowie\, MD\, 20716
ATTACH;FMTTYPE=image/png:https://ncnwmb.org/wp-content/uploads/2024/11/IMG_1779.png
END:VEVENT
BEGIN:VEVENT
DTSTART;TZID=America/New_York:20241223T190000
DTEND;TZID=America/New_York:20241223T200000
DTSTAMP:20260421T215500
CREATED:20241126T212807Z
LAST-MODIFIED:20250212T234227Z
UID:10000003-1734980400-1734984000@ncnwmb.org
SUMMARY:Join Us! Monthly Meeting
DESCRIPTION:(RECURRING EVENT)\nEvery 4th Monday at 7:00PM (Eastern time) \nLOCATION:\n​Bowie Senior Center\n14900 Health Center Drive\n​Bowie\, MD 20716
URL:https://ncnwmb.org/event-2/join-us-monthly-meeting/2024-12-23/
LOCATION:​Bowie Senior Center\, 14900 Health Center Drive\, Bowie\, MD\, 20716
ATTACH;FMTTYPE=image/png:https://ncnwmb.org/wp-content/uploads/2024/11/IMG_1779.png
END:VEVENT
END:VCALENDAR